BEGIN:VCALENDAR
VERSION:2.0
PRODID:-//Women&#039;s College Hospital Foundation - ECPv6.15.20//NONSGML v1.0//EN
CALSCALE:GREGORIAN
METHOD:PUBLISH
X-WR-CALNAME:Women&#039;s College Hospital Foundation
X-ORIGINAL-URL:https://womenscollegehospitalfoundation.com
X-WR-CALDESC:Events for Women&#039;s College Hospital Foundation
REFRESH-INTERVAL;VALUE=DURATION:PT1H
X-Robots-Tag:noindex
X-PUBLISHED-TTL:PT1H
BEGIN:VTIMEZONE
TZID:America/Toronto
BEGIN:DAYLIGHT
TZOFFSETFROM:-0500
TZOFFSETTO:-0400
TZNAME:EDT
DTSTART:20230312T070000
END:DAYLIGHT
BEGIN:STANDARD
TZOFFSETFROM:-0400
TZOFFSETTO:-0500
TZNAME:EST
DTSTART:20231105T060000
END:STANDARD
BEGIN:DAYLIGHT
TZOFFSETFROM:-0500
TZOFFSETTO:-0400
TZNAME:EDT
DTSTART:20240310T070000
END:DAYLIGHT
BEGIN:STANDARD
TZOFFSETFROM:-0400
TZOFFSETTO:-0500
TZNAME:EST
DTSTART:20241103T060000
END:STANDARD
BEGIN:DAYLIGHT
TZOFFSETFROM:-0500
TZOFFSETTO:-0400
TZNAME:EDT
DTSTART:20250309T070000
END:DAYLIGHT
BEGIN:STANDARD
TZOFFSETFROM:-0400
TZOFFSETTO:-0500
TZNAME:EST
DTSTART:20251102T060000
END:STANDARD
END:VTIMEZONE
BEGIN:VEVENT
DTSTART;TZID=America/Toronto:20240502T180000
DTEND;TZID=America/Toronto:20240502T210000
DTSTAMP:20260422T163807
CREATED:20240326T192227Z
LAST-MODIFIED:20240402T203815Z
UID:8990-1714672800-1714683600@womenscollegehospitalfoundation.com
SUMMARY:Women Paying it Forward
DESCRIPTION:Join us for an evening of inspiration with neWCHapter at our annual “Women Paying It Forward.” We’re shining a spotlight on crucial women’s health issues with insights from a Women’s College Hospital. Enjoy a vibrant mix of insightful discussion on healthcare\, specialty cocktails\, gourmet bites\, a silent auction\, and a raffle with exciting prizes! \nYour participation fuels transformative change in women’s healthcare by supporting the areas of greatest need at Women’s College Hospital. \nGrab your ticket for a night of connection\, empowerment\, and fun\, all for a great cause. Let’s make a difference together. \nPurchase tickets here > \nAbout neWCHapter:\nneWCHapter is a group of dedicated and passionate professionals in the GTA raising funds in support of Women’s College Hospital. Learn more about us here!
URL:https://womenscollegehospitalfoundation.com/event/women-paying-it-forward-2/
LOCATION:Mildred’s Temple Kitchen\, 85 Hanna Avenue #104\, Toronto\, Ontario\, M6K 3S3\, Canada
ATTACH;FMTTYPE=image/png:https://womenscollegehospitalfoundation.com/wp-content/uploads/2024/03/WPIF-Eventbrite-Graphic.png
END:VEVENT
END:VCALENDAR