BEGIN:VCALENDAR
VERSION:2.0
PRODID:-//Women&#039;s College Hospital Foundation - ECPv6.15.20//NONSGML v1.0//EN
CALSCALE:GREGORIAN
METHOD:PUBLISH
X-WR-CALNAME:Women&#039;s College Hospital Foundation
X-ORIGINAL-URL:https://womenscollegehospitalfoundation.com
X-WR-CALDESC:Events for Women&#039;s College Hospital Foundation
REFRESH-INTERVAL;VALUE=DURATION:PT1H
X-Robots-Tag:noindex
X-PUBLISHED-TTL:PT1H
BEGIN:VTIMEZONE
TZID:America/Toronto
BEGIN:DAYLIGHT
TZOFFSETFROM:-0500
TZOFFSETTO:-0400
TZNAME:EDT
DTSTART:20250309T070000
END:DAYLIGHT
BEGIN:STANDARD
TZOFFSETFROM:-0400
TZOFFSETTO:-0500
TZNAME:EST
DTSTART:20251102T060000
END:STANDARD
BEGIN:DAYLIGHT
TZOFFSETFROM:-0500
TZOFFSETTO:-0400
TZNAME:EDT
DTSTART:20260308T070000
END:DAYLIGHT
BEGIN:STANDARD
TZOFFSETFROM:-0400
TZOFFSETTO:-0500
TZNAME:EST
DTSTART:20261101T060000
END:STANDARD
BEGIN:DAYLIGHT
TZOFFSETFROM:-0500
TZOFFSETTO:-0400
TZNAME:EDT
DTSTART:20270314T070000
END:DAYLIGHT
BEGIN:STANDARD
TZOFFSETFROM:-0400
TZOFFSETTO:-0500
TZNAME:EST
DTSTART:20271107T060000
END:STANDARD
END:VTIMEZONE
BEGIN:VEVENT
DTSTART;TZID=America/Toronto:20260606T073000
DTEND;TZID=America/Toronto:20260606T103000
DTSTAMP:20260421T111830
CREATED:20260326T190745Z
LAST-MODIFIED:20260326T190745Z
UID:10854-1780731000-1780741800@womenscollegehospitalfoundation.com
SUMMARY:Shoppers Drug Mart® Run for Women 2026
DESCRIPTION:Join us on Saturday\, June 6 for the annual Shoppers Drug Mart® Run for Women in Toronto. Whether you walk\, run or roll\, you’ll support Women’s College Hospital’s Mental Health Programs – the largest clinical and research program of its kind in Canada with a focus on sex and gender. Women’s is proud to provide specialty areas of focus that include trauma and abuse\, mental health during reproductive life stages\, medical psychiatry and refugee mental health. Signing up and participating with a team will power WCH programs and research that ensure women have the support they need when they need it most.   \nREGISTER TODAY!
URL:https://womenscollegehospitalfoundation.com/event/shoppers-drug-mart-run-for-women-2026/
LOCATION:Women’s College Hospital
ATTACH;FMTTYPE=image/png:https://womenscollegehospitalfoundation.com/wp-content/uploads/2025/01/3.png
END:VEVENT
BEGIN:VEVENT
DTSTART;TZID=America/Toronto:20261029T171500
DTEND;TZID=America/Toronto:20261029T213000
DTSTAMP:20260421T111830
CREATED:20260326T165324Z
LAST-MODIFIED:20260326T190714Z
UID:10852-1793294100-1793309400@womenscollegehospitalfoundation.com
SUMMARY:Black Women's Healthcare Summit
DESCRIPTION:Join us on October 29\, 2026\, for a transformative evening of learning\, connection and empowerment at Women’s College Hospital’s sixth annual Black Women’s Healthcare Summit\, taking place at the Toronto Reference Library.\n\nThis year’s summit will continue to explore the unique needs and critical gaps in Black women’s health. Together\, we’ll examine the complex ways race\, gender and health intersect\, and how these factors influence healthcare experiences and outcomes.\n\nThe Summit remains a powerful gathering place for learning and change\, bringing together allies\, advocates and community leaders committed to improving the health and well‑being of Black women\, their families and their communities.\n\nTogether\, we can continue to confront systemic disparities and revolutionize healthcare – for Black women and for all.
URL:https://womenscollegehospitalfoundation.com/event/black-womens-healthcare-summit-2026/
ATTACH;FMTTYPE=image/jpeg:https://womenscollegehospitalfoundation.com/wp-content/uploads/2023/07/Black-Womens-Healthcare-Summit-2022-53-scaled.jpg
END:VEVENT
END:VCALENDAR