BEGIN:VCALENDAR
VERSION:2.0
PRODID:-//Women&#039;s College Hospital Foundation - ECPv6.15.20//NONSGML v1.0//EN
CALSCALE:GREGORIAN
METHOD:PUBLISH
X-WR-CALNAME:Women&#039;s College Hospital Foundation
X-ORIGINAL-URL:https://womenscollegehospitalfoundation.com
X-WR-CALDESC:Events for Women&#039;s College Hospital Foundation
REFRESH-INTERVAL;VALUE=DURATION:PT1H
X-Robots-Tag:noindex
X-PUBLISHED-TTL:PT1H
BEGIN:VTIMEZONE
TZID:America/Toronto
BEGIN:DAYLIGHT
TZOFFSETFROM:-0500
TZOFFSETTO:-0400
TZNAME:EDT
DTSTART:20210314T070000
END:DAYLIGHT
BEGIN:STANDARD
TZOFFSETFROM:-0400
TZOFFSETTO:-0500
TZNAME:EST
DTSTART:20211107T060000
END:STANDARD
BEGIN:DAYLIGHT
TZOFFSETFROM:-0500
TZOFFSETTO:-0400
TZNAME:EDT
DTSTART:20220313T070000
END:DAYLIGHT
BEGIN:STANDARD
TZOFFSETFROM:-0400
TZOFFSETTO:-0500
TZNAME:EST
DTSTART:20221106T060000
END:STANDARD
BEGIN:DAYLIGHT
TZOFFSETFROM:-0500
TZOFFSETTO:-0400
TZNAME:EDT
DTSTART:20230312T070000
END:DAYLIGHT
BEGIN:STANDARD
TZOFFSETFROM:-0400
TZOFFSETTO:-0500
TZNAME:EST
DTSTART:20231105T060000
END:STANDARD
END:VTIMEZONE
BEGIN:VEVENT
DTSTART;TZID=America/Toronto:20221025T170000
DTEND;TZID=America/Toronto:20221025T210000
DTSTAMP:20260421T183426
CREATED:20220722T195352Z
LAST-MODIFIED:20220926T132716Z
UID:4930-1666717200-1666731600@womenscollegehospitalfoundation.com
SUMMARY:Black Women's Healthcare Summit 2022
DESCRIPTION:As women\, there are many issues pervasive within the healthcare system that impact diagnoses\, access to care and even the understanding of women’s health needs. Couple that with the intersectionality of race and too many women fall through gaps in the system. \nAt the Black Women’s Healthcare Summit\, you will receive access to a change-making evening of education and networking. Industry experts take a deep dive into systematic inequities within healthcare and provide insightful information which directly impacts Black women’s journey navigating this flawed system. \nFor more details about this summit and to purchase tickets\, click here.
URL:https://womenscollegehospitalfoundation.com/event/black-womens-healthcare-summit-2022/
LOCATION:TELUS Centre for Performance and Learning\, Koerner Hall\, 273 Bloor St W\, Toronto\, Ontario\, M5S 1V6\, Canada
ATTACH;FMTTYPE=image/jpeg:https://womenscollegehospitalfoundation.com/wp-content/uploads/2022/07/BWHS_EventBanner_WCHF.ca_v2-e1664198649270.jpg
END:VEVENT
BEGIN:VEVENT
DTSTART;TZID=America/Toronto:20221019T190000
DTEND;TZID=America/Toronto:20221019T220000
DTSTAMP:20260421T183426
CREATED:20220914T155214Z
LAST-MODIFIED:20221007T151310Z
UID:5812-1666206000-1666216800@womenscollegehospitalfoundation.com
SUMMARY:Breast Reconstruction Awareness (BRA) Day
DESCRIPTION:evenOn Wednesday\, October 19\, 2022\, The Peter Gilgan Centre for Women’s Cancers in partnership with The Canadian Cancer Society (CCS) and with generous support from The Canadian Society of Plastic Surgeons\, Allergan Aesthetics and Mentor are hosting this free three-hour event for women considering breast reconstruction. \nBRA Day is intended to EDUCATE women on their breast reconstruction options\, provide an opportunity to see possible outcomes of breast reconstruction surgery\, EMPOWER women to make the choice that’s right for them and CONNECT women with others who have been through it. \nThe virtual event is open to women and men across the country and will include presentations from leading Canadian breast reconstruction experts\, stories from patients sharing their breast reconstruction journey\, resources and a virtual Show and Tell Lounge\, offering a unique opportunity to see real results of breast reconstruction. Breast reconstruction is covered by most health insurance plans in Canada. \nBreast reconstruction is recognized by the Ontario Health Insurance Plan (OHIP) as an important part of breast cancer treatment. As such\, OHIP covers all aspects of breast reconstruction including the costs of surgery\, breast implants\, hospital stay (if needed)\, nipple areolar reconstruction and most balancing surgeries on the opposite breast if required. \nThroughout October\, The Peter Gilgan Centre for Women’s Cancers at Women’s College Hospital (WCH) will be hosting events and sharing resources that empower women with the knowledge and information they need throughout their cancer journey. \nBreast cancer is the most common cancer found in Canadian women\, affecting around one in eight. The Peter Gilgan Centre is working to ensure that every woman has the chance to gain access to the highest standard of care in the prevention\, diagnosis\, treatment and survivorship for women’s cancers – no matter where she lives. \nClick here for more information on Breast Cancer Awareness Month and Breast Reconstruction Awareness Day (BRA Day).
URL:https://womenscollegehospitalfoundation.com/event/breast-reconstruction-awareness-bra-day/
LOCATION:Virtual Event
ATTACH;FMTTYPE=image/png:https://womenscollegehospitalfoundation.com/wp-content/uploads/2022/09/Untitled-800-×-800-px.png
END:VEVENT
BEGIN:VEVENT
DTSTART;TZID=America/Toronto:20220611T080000
DTEND;TZID=America/Toronto:20220611T120000
DTSTAMP:20260421T183426
CREATED:20220303T141123Z
LAST-MODIFIED:20220407T184042Z
UID:4301-1654934400-1654948800@womenscollegehospitalfoundation.com
SUMMARY:Ready to team up for women’s mental health?
DESCRIPTION:Join Women’s College Hospital Foundation in Toronto on June 11\, 2022 as we run\, walk or roll together for women’s mental health\, and each other!  Let’s break down the barriers to women accessing the mental health care they need and build community while we do it. The in-person event will begin and end at Women’s College Hospital. \nYOUR IMPACT\n\nYour participation will support the Department of Psychiatry at Women’s College Hospital – the largest clinical and research program of its kind in Canada!\nSpecialty focus areas include mental health related to trauma\, reproductive life stages and medical conditions.\nThe program has a unique focus on innovative virtual initiatives that are improving access to expert mental healthcare for women.\n\nDISTANCE\nIn-Person or Virtual: 5k Walk/Run\, 10K run & 1K Little Steps \n2022 RACE KIT\nYour Run for Women registration includes: \n\nThe legendary Swag Bag\nOfficial Run for Women Bracelet\nOfficial Run for Women Technical T-Shirt\n\nReady to team up for women’s mental health?\nRegister today and select ‘local charity’ when asked to ensure you are counted as one of our Women’s College Hospital teams raising funds in support of women’s mental health!\nSign up here: runforwomen.ca/Cities/Toronto \nShare the event with your community!  \nWe have the following information about the event that you can share with your networks and promote your team: \nCaptain’s Toolkit– once you’re registered\, use this toolkit to support your team recruitment and fundraising \nEvent Poster (8.5×11) – this is great to share via email or print and post to raise awareness and interest in the event and for your team \nPrint and use this Social Engagement Card in your own photos and or these social media graphics  you can post to share the event: \nRun for Women\, WCHF June 11 : Our Journey \n \n  \nI’m lacing up for WOMEN’s mental health! \n \n  \nMental Health. The only way there is together.
URL:https://womenscollegehospitalfoundation.com/event/run-for-women-2022/
ATTACH;FMTTYPE=image/png:https://womenscollegehospitalfoundation.com/wp-content/uploads/2022/03/RFW22_OurJourney_v3_Eventpg_Banner.png
END:VEVENT
BEGIN:VEVENT
DTSTART;TZID=America/Toronto:20220308T120000
DTEND;TZID=America/Toronto:20220308T140000
DTSTAMP:20260421T183426
CREATED:20211004T225927Z
LAST-MODIFIED:20211028T200706Z
UID:2893-1646740800-1646748000@womenscollegehospitalfoundation.com
SUMMARY:Women for Women’s 2022
DESCRIPTION:Women for Women’s is our annual signature gala\, attended by corporate\, philanthropic and community leaders each year. Proceeds support life-changing programs and research focused on advancing health for women and health equity for all. For more details on the gala and tickets click here.
URL:https://womenscollegehospitalfoundation.com/event/women-for-womens-2022/
LOCATION:Virtual Event
ATTACH;FMTTYPE=image/jpeg:https://womenscollegehospitalfoundation.com/wp-content/uploads/2021/10/Divine-Brown-2-scaled.jpg
END:VEVENT
BEGIN:VEVENT
DTSTART;TZID=America/Toronto:20220217T190000
DTEND;TZID=America/Toronto:20220217T210000
DTSTAMP:20260421T183426
CREATED:20220107T145935Z
LAST-MODIFIED:20220107T150112Z
UID:4134-1645124400-1645131600@womenscollegehospitalfoundation.com
SUMMARY:Breast Health for Black Women
DESCRIPTION:This event will empower Black women with awareness\, education and resources regarding breast health\, including breast cancer information.\n\n\n\n\n\n\nThis free\, national\, and virtual event will:\n\n\n\nEmpower Black women with breast health and wellness information tailored specifically to them​\nIncrease knowledge and awareness around risk factors\, prevention\, screening and early detection​\nHighlight the importance of culture and family history/family tree​\nProvide an opportunity to learn through stories of others who have been there​\nShare educational and community resources that are available for Black women​\n\nJoin us as we bring experts\, organizations\, and community members together for a conversation about breast cancer and an opportunity to have your questions answered. \n\n\nThis is a Canadian virtual event intended for use by residents of Canada\, who are 18 years of age and over. Worldwide participation is welcome\, however\, keep in mind that the content of this event and the community resources are tailored for Canadian residents.
URL:https://womenscollegehospitalfoundation.com/event/breast-health-for-black-women/
LOCATION:Virtual Event
ATTACH;FMTTYPE=image/jpeg:https://womenscollegehospitalfoundation.com/wp-content/uploads/2022/01/https___cdn.evbuc_.com_images_192884729_295109227761_1_original.jpg
END:VEVENT
BEGIN:VEVENT
DTSTART;TZID=America/Toronto:20220119T120000
DTEND;TZID=America/Toronto:20220119T130000
DTSTAMP:20260421T183426
CREATED:20211222T182947Z
LAST-MODIFIED:20220107T214852Z
UID:4126-1642593600-1642597200@womenscollegehospitalfoundation.com
SUMMARY:In Conversation with...Dr. Paula Rochon
DESCRIPTION:Introducing Women’s Age Lab: Research supporting women’s healthy aging \n\nWomen’s College Hospital’s newest centre\, Women’s Age Lab\, is the first and only research and advocacy program in the world dedicated to improving the health and well-being of older women. \nJoin Dr. Paula Rochon\, Founding Director\, Women’s Age Lab and Jennifer Bernard\, President and CEO\, Women’s College Hospital Foundation for an in-depth conversation about the unique needs of older women and how the Women’s Age Lab is revolutionizing care for women as they age. \nReserve your ticket for this free virtual event.
URL:https://womenscollegehospitalfoundation.com/event/in-conversation-with-dr-paula-rochon/
ATTACH;FMTTYPE=image/png:https://womenscollegehospitalfoundation.com/wp-content/uploads/2021/12/Paula-Rochon-Crop-e1640198423143.png
END:VEVENT
END:VCALENDAR