BEGIN:VCALENDAR
VERSION:2.0
PRODID:-//Women&#039;s College Hospital Foundation - ECPv6.15.20//NONSGML v1.0//EN
CALSCALE:GREGORIAN
METHOD:PUBLISH
X-ORIGINAL-URL:https://womenscollegehospitalfoundation.com
X-WR-CALDESC:Events for Women&#039;s College Hospital Foundation
REFRESH-INTERVAL;VALUE=DURATION:PT1H
X-Robots-Tag:noindex
X-PUBLISHED-TTL:PT1H
BEGIN:VTIMEZONE
TZID:America/Toronto
BEGIN:DAYLIGHT
TZOFFSETFROM:-0500
TZOFFSETTO:-0400
TZNAME:EDT
DTSTART:20220313T070000
END:DAYLIGHT
BEGIN:STANDARD
TZOFFSETFROM:-0400
TZOFFSETTO:-0500
TZNAME:EST
DTSTART:20221106T060000
END:STANDARD
BEGIN:DAYLIGHT
TZOFFSETFROM:-0500
TZOFFSETTO:-0400
TZNAME:EDT
DTSTART:20230312T070000
END:DAYLIGHT
BEGIN:STANDARD
TZOFFSETFROM:-0400
TZOFFSETTO:-0500
TZNAME:EST
DTSTART:20231105T060000
END:STANDARD
BEGIN:DAYLIGHT
TZOFFSETFROM:-0500
TZOFFSETTO:-0400
TZNAME:EDT
DTSTART:20240310T070000
END:DAYLIGHT
BEGIN:STANDARD
TZOFFSETFROM:-0400
TZOFFSETTO:-0500
TZNAME:EST
DTSTART:20241103T060000
END:STANDARD
END:VTIMEZONE
BEGIN:VEVENT
DTSTART;TZID=America/Toronto:20230504T183000
DTEND;TZID=America/Toronto:20230504T213000
DTSTAMP:20260423T081854
CREATED:20230414T131546Z
LAST-MODIFIED:20230425T190027Z
UID:7194-1683225000-1683235800@womenscollegehospitalfoundation.com
SUMMARY:Women Paying it Forward: Creating a Safe Space
DESCRIPTION:Mark your calendar for an empowering event\, “Women Paying it Forward: From Trauma to Triumph” hosted by neWCHapter. We’re proud to host two exceptional doctors from Women’s College Hospital\, Dr. Heather Millar and Dr. Jennifer Wyman\, as they share their insights on trauma-informed care for marginalized women. \nIn addition to the enlightening discussion\, the evening will feature specialty cocktails\, delectable bites\, and exciting raffle prizes (more details coming soon!). All proceeds from the event will support the Women’s College Hospital and Women’s College Hospital Foundation. \nEvent Details: \nDate: Thursday\, May 4th \nTime: 6:30 pm – 9:30pm \nLocation: Mildred Temple’s Kitchen. \nAbout neWCHapter: \nneWCHapter is a group of dedicated and passionate professionals in the GTA raising funds in support of Women’s College Hospital. \nTickets: \nRegister through neWCHapter’s Eventbrite page. \nUse promo code: FFAM20
URL:https://womenscollegehospitalfoundation.com/event/women-paying-it-forward/
ATTACH;FMTTYPE=image/jpeg:https://womenscollegehospitalfoundation.com/wp-content/uploads/2023/04/WPIF-Graphic-Square-1-1.jpg
END:VEVENT
END:VCALENDAR