BEGIN:VCALENDAR
VERSION:2.0
PRODID:-//Women&#039;s College Hospital Foundation - ECPv6.15.20//NONSGML v1.0//EN
CALSCALE:GREGORIAN
METHOD:PUBLISH
X-WR-CALNAME:Women&#039;s College Hospital Foundation
X-ORIGINAL-URL:https://womenscollegehospitalfoundation.com
X-WR-CALDESC:Events for Women&#039;s College Hospital Foundation
REFRESH-INTERVAL;VALUE=DURATION:PT1H
X-Robots-Tag:noindex
X-PUBLISHED-TTL:PT1H
BEGIN:VTIMEZONE
TZID:America/Toronto
BEGIN:DAYLIGHT
TZOFFSETFROM:-0500
TZOFFSETTO:-0400
TZNAME:EDT
DTSTART:20230312T070000
END:DAYLIGHT
BEGIN:STANDARD
TZOFFSETFROM:-0400
TZOFFSETTO:-0500
TZNAME:EST
DTSTART:20231105T060000
END:STANDARD
BEGIN:DAYLIGHT
TZOFFSETFROM:-0500
TZOFFSETTO:-0400
TZNAME:EDT
DTSTART:20240310T070000
END:DAYLIGHT
BEGIN:STANDARD
TZOFFSETFROM:-0400
TZOFFSETTO:-0500
TZNAME:EST
DTSTART:20241103T060000
END:STANDARD
BEGIN:DAYLIGHT
TZOFFSETFROM:-0500
TZOFFSETTO:-0400
TZNAME:EDT
DTSTART:20250309T070000
END:DAYLIGHT
BEGIN:STANDARD
TZOFFSETFROM:-0400
TZOFFSETTO:-0500
TZNAME:EST
DTSTART:20251102T060000
END:STANDARD
END:VTIMEZONE
BEGIN:VEVENT
DTSTART;TZID=America/Toronto:20240228T190000
DTEND;TZID=America/Toronto:20240228T200000
DTSTAMP:20260422T192332
CREATED:20240208T142630Z
LAST-MODIFIED:20240208T142649Z
UID:8905-1709146800-1709150400@womenscollegehospitalfoundation.com
SUMMARY:Sweat for a Cause
DESCRIPTION:Join neWCHapter on Thursday\, February 22 for a night of hard-hitting philanthropic action\, presented by BEATBOX! \nWith its booming sound system and high-tech\, colour-changing LEDs\, BEATBOX will energize you to take on the rest of your day like a true fighter. \nEach ticket purchased supports the areas of greatest need at Women’s College Hospital. Are you ready to pack a punch?
URL:https://womenscollegehospitalfoundation.com/event/sweat-for-a-cause/
ATTACH;FMTTYPE=image/jpeg:https://womenscollegehospitalfoundation.com/wp-content/uploads/2024/02/424539925_1078137670064986_8146508800186976656_n.jpg
END:VEVENT
END:VCALENDAR