BEGIN:VCALENDAR
VERSION:2.0
PRODID:-//Women&#039;s College Hospital Foundation - ECPv6.15.20//NONSGML v1.0//EN
CALSCALE:GREGORIAN
METHOD:PUBLISH
X-WR-CALNAME:Women&#039;s College Hospital Foundation
X-ORIGINAL-URL:https://womenscollegehospitalfoundation.com
X-WR-CALDESC:Events for Women&#039;s College Hospital Foundation
REFRESH-INTERVAL;VALUE=DURATION:PT1H
X-Robots-Tag:noindex
X-PUBLISHED-TTL:PT1H
BEGIN:VTIMEZONE
TZID:America/Toronto
BEGIN:DAYLIGHT
TZOFFSETFROM:-0500
TZOFFSETTO:-0400
TZNAME:EDT
DTSTART:20240310T070000
END:DAYLIGHT
BEGIN:STANDARD
TZOFFSETFROM:-0400
TZOFFSETTO:-0500
TZNAME:EST
DTSTART:20241103T060000
END:STANDARD
BEGIN:DAYLIGHT
TZOFFSETFROM:-0500
TZOFFSETTO:-0400
TZNAME:EDT
DTSTART:20250309T070000
END:DAYLIGHT
BEGIN:STANDARD
TZOFFSETFROM:-0400
TZOFFSETTO:-0500
TZNAME:EST
DTSTART:20251102T060000
END:STANDARD
BEGIN:DAYLIGHT
TZOFFSETFROM:-0500
TZOFFSETTO:-0400
TZNAME:EDT
DTSTART:20260308T070000
END:DAYLIGHT
BEGIN:STANDARD
TZOFFSETFROM:-0400
TZOFFSETTO:-0500
TZNAME:EST
DTSTART:20261101T060000
END:STANDARD
END:VTIMEZONE
BEGIN:VEVENT
DTSTART;TZID=America/Toronto:20250205T190000
DTEND;TZID=America/Toronto:20250205T200000
DTSTAMP:20260422T022855
CREATED:20241219T182242Z
LAST-MODIFIED:20241219T182603Z
UID:9356-1738782000-1738785600@womenscollegehospitalfoundation.com
SUMMARY:Pilates for a Cause: Presented by neWCHapter
DESCRIPTION:Join us for an inclusive evening of pilates at 889 Community to support Women’s College Hospital Foundation. This event is open to anyone who wants to unwind\, connect and make a difference. This event is organized by neWCHapter\, a committee of young professionals who are helping to transform the future of healthcare at Women’s College Hospital.  \nLocation: 889 Community\, 889 Yonge St\, Toronto\nTicket Price: $55 
URL:https://womenscollegehospitalfoundation.com/event/pilates-for-a-cause-presented-by-newchapter/
LOCATION:889 Community\, 889 Yonge Street\, Toronto\, Ontario\, M4W 2H2\, Canada
ATTACH;FMTTYPE=image/png:https://womenscollegehospitalfoundation.com/wp-content/uploads/2024/12/neWCHapter-Feb5-Fitness-1.png
END:VEVENT
END:VCALENDAR