BEGIN:VCALENDAR
VERSION:2.0
PRODID:-//Women&#039;s College Hospital Foundation - ECPv6.15.20//NONSGML v1.0//EN
CALSCALE:GREGORIAN
METHOD:PUBLISH
X-ORIGINAL-URL:https://womenscollegehospitalfoundation.com
X-WR-CALDESC:Events for Women&#039;s College Hospital Foundation
REFRESH-INTERVAL;VALUE=DURATION:PT1H
X-Robots-Tag:noindex
X-PUBLISHED-TTL:PT1H
BEGIN:VTIMEZONE
TZID:America/Toronto
BEGIN:DAYLIGHT
TZOFFSETFROM:-0500
TZOFFSETTO:-0400
TZNAME:EDT
DTSTART:20240310T070000
END:DAYLIGHT
BEGIN:STANDARD
TZOFFSETFROM:-0400
TZOFFSETTO:-0500
TZNAME:EST
DTSTART:20241103T060000
END:STANDARD
BEGIN:DAYLIGHT
TZOFFSETFROM:-0500
TZOFFSETTO:-0400
TZNAME:EDT
DTSTART:20250309T070000
END:DAYLIGHT
BEGIN:STANDARD
TZOFFSETFROM:-0400
TZOFFSETTO:-0500
TZNAME:EST
DTSTART:20251102T060000
END:STANDARD
BEGIN:DAYLIGHT
TZOFFSETFROM:-0500
TZOFFSETTO:-0400
TZNAME:EDT
DTSTART:20260308T070000
END:DAYLIGHT
BEGIN:STANDARD
TZOFFSETFROM:-0400
TZOFFSETTO:-0500
TZNAME:EST
DTSTART:20261101T060000
END:STANDARD
END:VTIMEZONE
BEGIN:VEVENT
DTSTART;TZID=America/Toronto:20250923T123000
DTEND;TZID=America/Toronto:20250923T123000
DTSTAMP:20260421T154256
CREATED:20250716T163422Z
LAST-MODIFIED:20250716T170401Z
UID:9643-1758630600-1758630600@womenscollegehospitalfoundation.com
SUMMARY:Breast Ball Charity Golf Tournament
DESCRIPTION:Following an impressive $35\,000 raised in 2024\, the Breast Ball Golf Tournament is back and more than just a day on the green – it’s a passion project brought to life by women in the Architecture\, Engineering\, Construction (AEC)\, and Commercial Real Estate (CRE) industries. Created by women\, in celebration of women\, the event brings people together for an inclusive\, fun-filled afternoon supporting causes that matter deeply to women’s health. \nEmail events@wchospital.ca for more information.
URL:https://womenscollegehospitalfoundation.com/event/breast-ball-charity-golf-tournament/
LOCATION:Lionhead Golf & Conference Centre\, 8525 Mississauga Rd\, Brampton\, Ontario\, L6Y 0C1\, Canada
ATTACH;FMTTYPE=image/jpeg:https://womenscollegehospitalfoundation.com/wp-content/uploads/2025/04/BreastBall2024_Final_Social_00054.jpg
END:VEVENT
BEGIN:VEVENT
DTSTART;TZID=America/Toronto:20250925T170000
DTEND;TZID=America/Toronto:20250925T190000
DTSTAMP:20260421T154256
CREATED:20250820T235826Z
LAST-MODIFIED:20250821T164510Z
UID:9696-1758819600-1758826800@womenscollegehospitalfoundation.com
SUMMARY:Women’s College Hospital Open House
DESCRIPTION:Join us for a rare opportunity to see the heart of our hospital in action and get an up-close look at how Women’s College Hospital is revolutionizing healthcare through exclusive\, behind-the-scenes tours and speaker presentations. You’ll have the power to curate your own evening\, by selecting insightful tours and engaging speakers to get an inside look at the latest innovations and breakthroughs at Women’s College Hospital. \nEmail events@wchospital.ca for more information. \nLearn More
URL:https://womenscollegehospitalfoundation.com/event/womens-college-hospital-open-house/
ATTACH;FMTTYPE=image/jpeg:https://womenscollegehospitalfoundation.com/wp-content/uploads/2025/08/MM_WomensCollegeHospitalMichaelMuraz.jpg
END:VEVENT
BEGIN:VEVENT
DTSTART;TZID=America/Toronto:20250927T073000
DTEND;TZID=America/Toronto:20250927T073000
DTSTAMP:20260421T154256
CREATED:20250716T164607Z
LAST-MODIFIED:20250716T164607Z
UID:9646-1758958200-1758958200@womenscollegehospitalfoundation.com
SUMMARY:Metals and Mountains
DESCRIPTION:Hosted by Andrew Bradbury and Tierney Courage\, Metals & Mountains is a unique cycling fundraiser that winds through the stunning countryside of the Blue Mountains\, just north of Toronto. Now in its 4th year\, the event has proudly raised $190\,000 to date in support of the Catalyst Fund at Women’s College Hospital Foundation. Presented by Orla Mining\, Metals & Mountains brings together members of the mining industry – and beyond – for a ride with purpose.
URL:https://womenscollegehospitalfoundation.com/event/metals-and-mountains/
LOCATION:Spy Cider House and Distillery\, 808108\, Side Rd 24\, Clarksburg\, ON\, N0H 1J0\, Canada
ATTACH;FMTTYPE=image/jpeg:https://womenscollegehospitalfoundation.com/wp-content/uploads/2025/04/69b778a58e991851ed24493f1ccef1bb-1.jpg
END:VEVENT
END:VCALENDAR